BEGIN:VCALENDAR
PRODID:-//github.com/rianjs/ical.net//NONSGML ical.net 4.0//EN
VERSION:2.0
BEGIN:VEVENT
DESCRIPTION:Öffentlicher Stammtisch des Kreisverbandes Kempten-Oberallgäu\
 nhttps://touren-termine.adfc.de/radveranstaltung/159845-radlerstammtisch-
 in-martinszell
DTEND:20250821T200000Z
DTSTAMP:20260424T151933Z
DTSTART:20250821T180000Z
LOCATION: IG OMa\, Oberdorfer Bahnhofstraße 7\, 87448 Landkreis Oberallgäu
SEQUENCE:0
SUMMARY:Radlerstammtisch in Martinszell
UID:45429722-0897-4c6f-84f6-7ec975474447
URL:https://touren-termine.adfc.de/radveranstaltung/159845-radlerstammtisc
 h-in-martinszell
END:VEVENT
END:VCALENDAR
