BEGIN:VCALENDAR
PRODID:-//github.com/rianjs/ical.net//NONSGML ical.net 4.0//EN
VERSION:2.0
BEGIN:VEVENT
DESCRIPTION:Die Kurse finden bei schönem Wetter und Nieselregen \nstatt. B
 ei Starkregen wird der Kurs auf den nächstmöglichen Termin verschoben.\nh
 ttps://touren-termine.adfc.de/radveranstaltung/137246-pedelecfahrsicherhe
 itstraining-u50
DTEND:20240825T123000Z
DTSTAMP:20260424T150902Z
DTSTART:20240825T070000Z
LOCATION:Wiesstraße\, 87435 Kempten (Allgäu)
SEQUENCE:0
SUMMARY:Pedelec-Fahrsicherheitstraining U50
UID:c1467cb0-fa41-4a53-bf18-f406dd2be467
URL:https://touren-termine.adfc.de/radveranstaltung/137246-pedelecfahrsich
 erheitstraining-u50
END:VEVENT
END:VCALENDAR
