BEGIN:VCALENDAR
PRODID:-//github.com/rianjs/ical.net//NONSGML ical.net 4.0//EN
VERSION:2.0
BEGIN:VEVENT
DESCRIPTION:Wir fahren in Fahrgemeinschaften ins Alpenland. Auch im Voralp
 enland und im 5 Seengebiet sind ebenso Touren möglich.\nTourenbeschreibun
 g wird bei der Anmeldung bekannt gegeben\nhttps://touren-termine.adfc.de/
 radveranstaltung/120584-mtbbergtour-nach-wahl
DTEND:20241003T160000Z
DTSTAMP:20260425T150732Z
DTSTART:20241003T063000Z
LOCATION:Carolinenstraße 1a am Maibaum\, 82319 Söcking\, 82319 Starnberg
SEQUENCE:0
SUMMARY:MTB-Bergtour nach Wahl
UID:8b7a365e-98c1-4fc3-8f08-8e5f40f011a0
URL:https://touren-termine.adfc.de/radveranstaltung/120584-mtbbergtour-nac
 h-wahl
END:VEVENT
END:VCALENDAR
