BEGIN:VCALENDAR
PRODID:-//github.com/rianjs/ical.net//NONSGML ical.net 4.0//EN
VERSION:2.0
BEGIN:VEVENT
DESCRIPTION:Unsere reizvolle Etappe entlang der Isar führt uns von Landshu
 t nach Freising und zurück in einer grünen Landschaft mit Auwäldern und r
 eich an unterschiedlichsten Pflanzen und Tieren.\nhttps://touren-termine.
 adfc.de/radveranstaltung/88401-reizvolle-isarauen-von-landshut-nach-freis
 ing
DTEND:20230624T163000Z
DTSTAMP:20260420T082629Z
DTSTART:20230624T073000Z
LOCATION:Parkplatz P1 Grieserwiese\, 84036 Landshut
SEQUENCE:0
SUMMARY:Reizvolle Isarauen von Landshut nach Freising
UID:1944a4eb-166a-4efb-a8e0-610762ce8f4d
URL:https://touren-termine.adfc.de/radveranstaltung/88401-reizvolle-isarau
 en-von-landshut-nach-freising
END:VEVENT
END:VCALENDAR
