BEGIN:VCALENDAR
PRODID:-//github.com/rianjs/ical.net//NONSGML ical.net 4.0//EN
VERSION:2.0
BEGIN:VEVENT
DESCRIPTION:Von Stadthagen geht es über Lüdersfeld\, Sachsenhagen\, Idense
 n\, Bokeloh und Klein Heidorn zum Fliegerhorst in Wunstorf. Besichtigung 
 der Exponate der Fluggeschichte in der Halle möglich.\nhttps://touren-ter
 mine.adfc.de/radveranstaltung/143867-radtour-zur-ju52halle-am-fliegerhors
 t-wunstorf
DTEND:20250615T150000Z
DTSTAMP:20260421T163538Z
DTSTART:20250615T080000Z
LOCATION:Marktplatz \,Marktbrunnen\, 31655 Stadthagen
SEQUENCE:0
SUMMARY:Radtour zur JU52-Halle  am Fliegerhorst\, Wunstorf
UID:f2d410be-c85d-46ee-ac47-1c3fe1e7b9c2
URL:https://touren-termine.adfc.de/radveranstaltung/143867-radtour-zur-ju5
 2halle-am-fliegerhorst-wunstorf
END:VEVENT
END:VCALENDAR
