BEGIN:VCALENDAR
PRODID:-//github.com/rianjs/ical.net//NONSGML ical.net 4.0//EN
VERSION:2.0
BEGIN:VEVENT
DESCRIPTION:Start: 09:30 Uhr\, 22.07.2023\, ab Wickrath Parkplatz Bahnhof\
 nhttps://touren-termine.adfc.de/radveranstaltung/104090-wickrath-baal-rur
 tal-wegberg-wickrath
DTEND:20230722T140000Z
DTSTAMP:20260420T231935Z
DTSTART:20230722T073000Z
LOCATION:Bahnhofsplatz\, 41189 Mönchengladbach
SEQUENCE:0
SUMMARY:Wickrath - Baal - Rurtal - Wegberg - Wickrath
UID:529a63b5-b4cc-43ff-bd97-2e3399f64bf9
URL:https://touren-termine.adfc.de/radveranstaltung/104090-wickrath-baal-r
 urtal-wegberg-wickrath
END:VEVENT
END:VCALENDAR
