BEGIN:VCALENDAR
PRODID:-//github.com/rianjs/ical.net//NONSGML ical.net 4.0//EN
VERSION:2.0
BEGIN:VEVENT
DESCRIPTION:Auf schönen Wegen rund um Bad Berleburg mit mehr Plaudern als 
 Radeln. Die Strecken werden spontan entschieden. Einkehr optional. Länge 
 je nach Jahreszeit und Witterung.\nhttps://touren-termine.adfc.de/radvera
 nstaltung/197551-feierabendtour
DTEND:20260414T173000Z
DTSTAMP:20260423T030400Z
DTSTART:20260414T160000Z
LOCATION:Tourist-Info Marktplatz\, 57319 Bad Berleburg
SEQUENCE:0
SUMMARY:Feierabendtour
UID:d65a37c8-4c68-42c6-8109-e7d2e5a0dba6
URL:https://touren-termine.adfc.de/radveranstaltung/197551-feierabendtour
END:VEVENT
END:VCALENDAR
