BEGIN:VCALENDAR
PRODID:-//github.com/rianjs/ical.net//NONSGML ical.net 4.0//EN
VERSION:2.0
BEGIN:VEVENT
DESCRIPTION:Niemand ist perfekt\, das Radwegesystem in Cuxhaven schon gar 
 nicht!\nWir unterhalten uns über alle Dinge rund ums Fahrrad und nehmen W
 ünsche und Anregungen an.\nhttps://touren-termine.adfc.de/radveranstaltun
 g/142252-kaffeestunde
DTEND:20250602T150000Z
DTSTAMP:20260421T020314Z
DTSTART:20250602T130000Z
LOCATION:Bürgerbahnhof\, Am Bahnhof 1\, 27472 Cuxhaven
SEQUENCE:0
SUMMARY:Kaffeestunde
UID:98e123bd-cd07-4651-b0dd-de193e5d9980
URL:https://touren-termine.adfc.de/radveranstaltung/142252-kaffeestunde
END:VEVENT
END:VCALENDAR
