BEGIN:VCALENDAR
PRODID:-//github.com/rianjs/ical.net//NONSGML ical.net 4.0//EN
VERSION:2.0
BEGIN:VEVENT
DESCRIPTION:Vom Fredenbaum über die Radtour Nord-Ost nach Kaiserau. Auf de
 m NRW Radweg zum Seseke Weg. Weiter auf dem NRW Radweg nach Sandbochum. A
 m Datteln-Hamm Kanal nach Herringen.\nhttps://touren-termine.adfc.de/radv
 eranstaltung/176930-zur-kissinger-hohe
DTEND:20260922T150000Z
DTSTAMP:20260421T114720Z
DTSTART:20260922T080000Z
LOCATION:Klinikzentrum Nord\, Schützenstr./Beethovenstr.\, 44147 Dortmund
SEQUENCE:0
SUMMARY:Zur Kissinger Höhe
UID:7a636cf2-b658-4a40-8423-58020d654797
URL:https://touren-termine.adfc.de/radveranstaltung/176930-zur-kissinger-h
 ohe
END:VEVENT
END:VCALENDAR
