BEGIN:VCALENDAR
PRODID:-//github.com/rianjs/ical.net//NONSGML ical.net 4.0//EN
VERSION:2.0
BEGIN:VEVENT
DESCRIPTION:Jeden Montag findet morgens eine Radtour statt.\nhttps://toure
 n-termine.adfc.de/radveranstaltung/141847-montag-morgen-tour
DTEND:20241118T110000Z
DTSTAMP:20260423T201625Z
DTSTART:20241118T090000Z
LOCATION:In der Ahe 29\, 27356 Rotenburg
SEQUENCE:0
SUMMARY:Montag Morgen Tour
UID:4817684c-c34c-4f7e-af5f-41ed68bfc9a7
URL:https://touren-termine.adfc.de/radveranstaltung/141847-montag-morgen-t
 our
END:VEVENT
END:VCALENDAR
