BEGIN:VCALENDAR
PRODID:-//github.com/rianjs/ical.net//NONSGML ical.net 4.0//EN
VERSION:2.0
BEGIN:VEVENT
DESCRIPTION:Kellertour Oberreichenbach für Radelnde mit guter Kondition\nh
 ttps://touren-termine.adfc.de/radveranstaltung/114403-kellertour-oberreic
 henbach
DTEND:20240915T160000Z
DTSTAMP:20260422T173011Z
DTSTART:20240915T080000Z
LOCATION:Nürnberger Tor\, 91301 Forchheim
SEQUENCE:0
SUMMARY:Kellertour Oberreichenbach
UID:b97ecc07-49bb-4641-9c20-e435ecbd14a9
URL:https://touren-termine.adfc.de/radveranstaltung/114403-kellertour-ober
 reichenbach
END:VEVENT
END:VCALENDAR
