BEGIN:VCALENDAR
PRODID:-//github.com/rianjs/ical.net//NONSGML ical.net 4.0//EN
VERSION:2.0
BEGIN:VEVENT
DESCRIPTION:Feierabendtour über Polling und Berghof nach Peißenberg\nhttps
 ://touren-termine.adfc.de/radveranstaltung/169137-feierabendtour
DTEND:20250919T173000Z
DTSTAMP:20260421T101253Z
DTSTART:20250919T140000Z
LOCATION:Marienplatz\, 82362 Weilheim
SEQUENCE:0
SUMMARY:Feierabendtour
UID:fc492108-9d01-452d-98af-f5d14d6f8a12
URL:https://touren-termine.adfc.de/radveranstaltung/169137-feierabendtour
END:VEVENT
END:VCALENDAR
