BEGIN:VCALENDAR
PRODID:-//github.com/rianjs/ical.net//NONSGML ical.net 4.0//EN
VERSION:2.0
BEGIN:VEVENT
DESCRIPTION:Nähere Infos zur Veranstaltung folgen demnächst\nIndividuelle 
 Anfahrt\, ohne Führung\nhttps://touren-termine.adfc.de/radveranstaltung/1
 19676-6-unnaer-bike-night
DTEND:20240525T203000Z
DTSTAMP:20260420T102307Z
DTSTART:20240525T200000Z
LOCATION:Lindenplatz 1\, 59423 Unna
SEQUENCE:0
SUMMARY:6. Unnaer Bike Night
UID:8187e12c-7ca1-49c3-9a74-9b7ca0587522
URL:https://touren-termine.adfc.de/radveranstaltung/119676-6-unnaer-bike-n
 ight
END:VEVENT
END:VCALENDAR
