BEGIN:VCALENDAR
PRODID:-//github.com/rianjs/ical.net//NONSGML ical.net 4.0//EN
VERSION:2.0
BEGIN:VEVENT
DESCRIPTION:In Kaufbeuren! Aufbaukurs zum Grundkurs vom 08.02.2023 bzw. fü
 r Radler\, die bereits etwas Erfahrung mit Komoot haben.\nAnmeldeschluss:
  Mo 12.02.2024 - AUSGEBUCHT\nhttps://touren-termine.adfc.de/radveranstalt
 ung/114838-fahrradnavigation-mit-komoot-aufbaukurs-voll
DTEND:20240314T200000Z
DTSTAMP:20260419T155729Z
DTSTART:20240314T170000Z
LOCATION:Buronstraße\, 87600 Kaufbeuren
SEQUENCE:0
SUMMARY:Fahrradnavigation mit Komoot - Aufbaukurs - voll
UID:97d5bbe8-763b-40ed-93c7-2ac7d092837e
URL:https://touren-termine.adfc.de/radveranstaltung/114838-fahrradnavigati
 on-mit-komoot-aufbaukurs-voll
END:VEVENT
END:VCALENDAR
