BEGIN:VCALENDAR
PRODID:-//github.com/rianjs/ical.net//NONSGML ical.net 4.0//EN
VERSION:2.0
BEGIN:VEVENT
DESCRIPTION:30 - 40 km\nhttps://touren-termine.adfc.de/radveranstaltung/94
 813-kurztour-18oo-203o
DTEND:20230614T180000Z
DTSTAMP:20260423T183844Z
DTSTART:20230614T160000Z
LOCATION:Rathausplatz 3\, 30938 Großburgwedel
SEQUENCE:0
SUMMARY:Kurztour 18.oo - 20.3o
UID:fd1b5e22-f1a0-4a21-9b1e-b590bf89293f
URL:https://touren-termine.adfc.de/radveranstaltung/94813-kurztour-18oo-20
 3o
END:VEVENT
END:VCALENDAR
