BEGIN:VCALENDAR
PRODID:-//github.com/rianjs/ical.net//NONSGML ical.net 4.0//EN
VERSION:2.0
BEGIN:VEVENT
DESCRIPTION:Autofreies Wiesenttal / Fränkische Schweiz Marathon\nhttps://t
 ouren-termine.adfc.de/radveranstaltung/144839-autofreies-wiesenttal
DTEND:20250907T170000Z
DTSTAMP:20260421T101253Z
DTSTART:20250907T073000Z
LOCATION:Nürnberger Tor\, 91301 Forchheim
SEQUENCE:0
SUMMARY:Autofreies Wiesenttal
UID:244ae8e7-52d8-4438-afbb-96bd414f8f1f
URL:https://touren-termine.adfc.de/radveranstaltung/144839-autofreies-wies
 enttal
END:VEVENT
END:VCALENDAR
