BEGIN:VCALENDAR
PRODID:-//github.com/rianjs/ical.net//NONSGML ical.net 4.0//EN
VERSION:2.0
BEGIN:VEVENT
DESCRIPTION:Codieraktion in Lauterhofen muss leider wegen Personalmangel e
 ntfallen!\nhttps://touren-termine.adfc.de/radveranstaltung/163361-codiera
 ktion-am-04052025-muss-leider-entfallen
DTEND;VALUE=DATE:20250504
DTSTAMP:20260425T021538Z
DTSTART;VALUE=DATE:20250504
LOCATION:Industriestraße Lauterhofen\, 92283 Landkreis Neumarkt in der Obe
 rpfalz
SEQUENCE:0
SUMMARY:Codieraktion am 04.05.2025 muss leider entfallen!
UID:2596e1fe-f316-4739-9d8c-8592b0a0d2b2
URL:https://touren-termine.adfc.de/radveranstaltung/163361-codieraktion-am
 -04052025-muss-leider-entfallen
END:VEVENT
END:VCALENDAR
