BEGIN:VCALENDAR
PRODID:-//github.com/rianjs/ical.net//NONSGML ical.net 4.0//EN
VERSION:2.0
BEGIN:VEVENT
DESCRIPTION:Melsungen - Adelshausen - Eubach - Katzenstirn - Geidelbachtal
  - Morschen - R 1 bis Melsungen\nhttps://touren-termine.adfc.de/radverans
 taltung/149316-halbtagstour-uber-eubach-ins-geidelbachtal
DTEND:20251005T160000Z
DTSTAMP:20260421T131937Z
DTSTART:20251005T120000Z
LOCATION:Melsungen\, ADFC Schaukasten \, Brückenstrasse Ecke Flämmergasse\
 , 34212 Melsungen
SEQUENCE:0
SUMMARY:Halbtagstour über Eubach ins Geidelbachtal
UID:c6fa04bd-ec2f-4553-bcc9-8c4522b41310
URL:https://touren-termine.adfc.de/radveranstaltung/149316-halbtagstour-ub
 er-eubach-ins-geidelbachtal
END:VEVENT
END:VCALENDAR
