BEGIN:VCALENDAR
PRODID:-//github.com/rianjs/ical.net//NONSGML ical.net 4.0//EN
VERSION:2.0
BEGIN:VEVENT
DESCRIPTION:Zusammen mit der Stadt Kempen veranstaltet der ADFC Kempen in 
 diesem Jahr wieder einen Fahrradflohmarkt.\nhttps://touren-termine.adfc.d
 e/radveranstaltung/191705-fahrradflohmarkt-kempen-2026
DTEND:20260314T120000Z
DTSTAMP:20260421T102652Z
DTSTART:20260314T090000Z
LOCATION:Buttermarkt 11\, 47906 Kempen
SEQUENCE:0
SUMMARY:Fahrradflohmarkt Kempen 2026
UID:486d2d2e-4a48-42be-9659-d3bf6b7bdac3
URL:https://touren-termine.adfc.de/radveranstaltung/191705-fahrradflohmark
 t-kempen-2026
END:VEVENT
END:VCALENDAR
