BEGIN:VCALENDAR
PRODID:-//github.com/rianjs/ical.net//NONSGML ical.net 4.0//EN
VERSION:2.0
BEGIN:VEVENT
DESCRIPTION:Termin am Wochenende! Für Eltern und Großeltern mit Kinderrada
 nhänger und Kindern im Kinderradanhänger.\nWir fahren zu Spielplätzen und
  zu für Kinder interessante Spots. Anmeldung bis 14.08.2026.\nhttps://tou
 ren-termine.adfc.de/radveranstaltung/179295-elternkindradeln-mit-radanhan
 ger
DTEND:20260816T110000Z
DTSTAMP:20260419T191815Z
DTSTART:20260816T070000Z
LOCATION:Bahnhofsvorplatz\, 87600 Kaufbeuren
SEQUENCE:0
SUMMARY:Eltern-Kind-Radeln mit Radanhänger
UID:261c034d-b002-4ae3-9980-233bf5f54fa6
URL:https://touren-termine.adfc.de/radveranstaltung/179295-elternkindradel
 n-mit-radanhanger
END:VEVENT
END:VCALENDAR
