BEGIN:VCALENDAR
PRODID:-//github.com/rianjs/ical.net//NONSGML ical.net 4.0//EN
VERSION:2.0
BEGIN:VEVENT
DESCRIPTION:Über Erzhausen und Weiterstadt geht es nach Griesheim zum Rest
 aurant Prinz Heinrich. Zurück geht es über Mörfelden. Anmeldung notwendig
 .\nhttps://touren-termine.adfc.de/radveranstaltung/144546-nach-griesheim
DTEND:20250309T150000Z
DTSTAMP:20260423T190529Z
DTSTART:20250309T090000Z
LOCATION:Lindenplatz\, 63303 Sprendlingen
SEQUENCE:0
SUMMARY:Nach Griesheim
UID:60cd9763-ab2a-477c-ab5d-125cf0bac29a
URL:https://touren-termine.adfc.de/radveranstaltung/144546-nach-griesheim
END:VEVENT
END:VCALENDAR
