BEGIN:VCALENDAR
PRODID:-//github.com/rianjs/ical.net//NONSGML ical.net 4.0//EN
VERSION:2.0
BEGIN:VEVENT
DESCRIPTION:Durch das südliche Wittgensteiner Land Zum Hofcafé DeMa nach V
 olkholz und zurück.\nhttps://touren-termine.adfc.de/radveranstaltung/1387
 58-3-sternfahrt-siwi-nach-volkholz-start-berleburg
DTEND:20240908T150000Z
DTSTAMP:20260423T032438Z
DTSTART:20240908T093000Z
LOCATION:Bahnhofstraße 1\, Bahnhofsvorplatz\, 57319 Bad Berleburg
SEQUENCE:0
SUMMARY:3. Sternfahrt SiWi nach Volkholz Start Berleburg
UID:a5bc3a44-e0e1-442f-9bb1-a39e0b5207f2
URL:https://touren-termine.adfc.de/radveranstaltung/138758-3-sternfahrt-si
 wi-nach-volkholz-start-berleburg
END:VEVENT
END:VCALENDAR
