BEGIN:VCALENDAR
PRODID:-//github.com/rianjs/ical.net//NONSGML ical.net 4.0//EN
VERSION:2.0
BEGIN:VEVENT
DESCRIPTION:Treffen der AG Verkehr des ADFC Bochum\nhttps://touren-termine
 .adfc.de/radveranstaltung/184750-ag-verkehr
DTEND:20270107T193000Z
DTSTAMP:20260420T150153Z
DTSTART:20270107T173000Z
LOCATION:Alsenstraße 27\, 44789 Bochum
SEQUENCE:0
SUMMARY:AG Verkehr
UID:71f2f2fe-3f9a-4d5f-b673-482282bcb942
URL:https://touren-termine.adfc.de/radveranstaltung/184750-ag-verkehr
END:VEVENT
END:VCALENDAR
