BEGIN:VCALENDAR
PRODID:-//github.com/rianjs/ical.net//NONSGML ical.net 4.0//EN
VERSION:2.0
BEGIN:VEVENT
DESCRIPTION:30 - 35 km\nhttps://touren-termine.adfc.de/radveranstaltung/14
 2594-kurztour
DTEND:20250730T180000Z
DTSTAMP:20260423T105515Z
DTSTART:20250730T160000Z
LOCATION:Rathaus\, Fuhrberger Straße 3\, 30938 Burgwedel
SEQUENCE:0
SUMMARY:Kurztour
UID:e6e34e04-da2d-45e0-85b8-a2aeb58b4646
URL:https://touren-termine.adfc.de/radveranstaltung/142594-kurztour
END:VEVENT
END:VCALENDAR
