BEGIN:VCALENDAR
PRODID:-//github.com/rianjs/ical.net//NONSGML ical.net 4.0//EN
VERSION:2.0
BEGIN:VEVENT
DESCRIPTION:Dieses Angebot passt zu allen\, die nach einem Arbeitstag sich
  nochmal auslüften wollen\, die Lungen mit frischer Luft tanken und/oder 
 einfach ein bis zwei Stunden sportliche Bewegung benötigen.\nhttps://tour
 en-termine.adfc.de/radveranstaltung/191382-alle-wege-fuhren-um-katzwang-f
 eierabendtour
DTEND:20260728T174500Z
DTSTAMP:20260425T171303Z
DTSTART:20260728T161500Z
LOCATION:Wendehammer Rosine-Speicher-Straße Katzwang\, 90455 Nürnberg
SEQUENCE:0
SUMMARY:Alle Wege führen um Katzwang - Feierabendtour
UID:7586c40e-991a-4f62-84ea-e9251eae3977
URL:https://touren-termine.adfc.de/radveranstaltung/191382-alle-wege-fuhre
 n-um-katzwang-feierabendtour
END:VEVENT
END:VCALENDAR
