BEGIN:VCALENDAR
PRODID:-//github.com/rianjs/ical.net//NONSGML ical.net 4.0//EN
VERSION:2.0
BEGIN:VEVENT
DESCRIPTION:Vom Neckar radeln wir entlang der Obstplantagen rund um Großas
 pach nach Murrhardt\, wo wir uns für den steilen Anstieg zur Murrquelle s
 tärken. Zurück fahren wir über Backnang.\nhttps://touren-termine.adfc.de/
 radveranstaltung/147249-zur-murrquelle-pedelectour
DTEND:20250627T150000Z
DTSTAMP:20260423T191342Z
DTSTART:20250627T070000Z
LOCATION:Schiffsanlegestelle Hoheneck\, 71642 Ludwigsburg
SEQUENCE:0
SUMMARY:Zur Murrquelle - Pedelec-Tour
UID:555226a8-4f0e-4c78-9d03-9c1d22a037c8
URL:https://touren-termine.adfc.de/radveranstaltung/147249-zur-murrquelle-
 pedelectour
END:VEVENT
END:VCALENDAR
