BEGIN:VCALENDAR
PRODID:-//github.com/rianjs/ical.net//NONSGML ical.net 4.0//EN
VERSION:2.0
BEGIN:VEVENT
DESCRIPTION:Du lebst in Neukölln und möchtest dich für ein menschengerecht
 es\, klimagerechtes und fahrradfreundliches Neukölln einsetzen?\nDann kom
 m dazu!\nhttps://touren-termine.adfc.de/radveranstaltung/173364-treffen-d
 er-stadtteilgruppe-neukolln
DTEND:20251103T200000Z
DTSTAMP:20260424T203858Z
DTSTART:20251103T180000Z
LOCATION:Restaurant Olympia\, Emser Straße Ecke Oderstraße\, 12051 Berlin
SEQUENCE:0
SUMMARY:Treffen der Stadtteilgruppe Neukölln
UID:caf14d29-3077-4371-b47f-8df0c02a5864
URL:https://touren-termine.adfc.de/radveranstaltung/173364-treffen-der-sta
 dtteilgruppe-neukolln
END:VEVENT
END:VCALENDAR
