BEGIN:VCALENDAR
PRODID:-//github.com/rianjs/ical.net//NONSGML ical.net 4.0//EN
VERSION:2.0
BEGIN:VEVENT
DESCRIPTION:Rauf aufs Rad für eine Spritztour in die Umgebung von Gauting!
 \nWöchentlich wechselnd naturkundliche Touren und Cappuccino-Touren.\nHeu
 te: Zur 'Gans am Wasser' im Westpark\nhttps://touren-termine.adfc.de/radv
 eranstaltung/137542-wochentliche-nachmittagstour-in-gauting
DTEND:20240806T153000Z
DTSTAMP:20260425T150610Z
DTSTART:20240806T120000Z
LOCATION:Rathaus\, Bahnhofstraße 7\, 82131 Gauting
SEQUENCE:0
SUMMARY:Wöchentliche Nachmittagstour in Gauting
UID:3869e4a6-7644-407e-a29d-f7b0b19731de
URL:https://touren-termine.adfc.de/radveranstaltung/137542-wochentliche-na
 chmittagstour-in-gauting
END:VEVENT
END:VCALENDAR
