BEGIN:VCALENDAR
PRODID:-//github.com/rianjs/ical.net//NONSGML ical.net 4.0//EN
VERSION:2.0
BEGIN:VEVENT
DESCRIPTION:Niemand ist perfekt\, das Radwegesystem in Cuxhaven schon gar 
 nicht! Wir unterhalten uns über alle Dinge rund ums Fahrrad und nehmen Wü
 nsche und Anregungen an.\nhttps://touren-termine.adfc.de/radveranstaltung
 /114700-kaffeestunde
DTEND:20241104T160000Z
DTSTAMP:20260421T022825Z
DTSTART:20241104T140000Z
LOCATION:Bürgerbahnhof\, Am Bahnhof 1\, 27472 Cuxhaven
SEQUENCE:0
SUMMARY:Kaffeestunde
UID:50fc1db9-bff3-4be3-9719-a3a0aec9feca
URL:https://touren-termine.adfc.de/radveranstaltung/114700-kaffeestunde
END:VEVENT
END:VCALENDAR
