BEGIN:VCALENDAR
PRODID:-//github.com/rianjs/ical.net//NONSGML ical.net 4.0//EN
VERSION:2.0
BEGIN:VEVENT
DESCRIPTION:Niemand ist perfekt\, das Radwegesystem in Cuxhaven schon gar 
 nicht! Wir unterhalten uns über alle Dinge rund ums Fahrrad und nehmen Wü
 nsche und Anregungen an.\nhttps://touren-termine.adfc.de/radveranstaltung
 /114701-kaffeestunde
DTEND:20241202T160000Z
DTSTAMP:20260421T020309Z
DTSTART:20241202T140000Z
LOCATION:Bürgerbahnhof\, Am Bahnhof 1\, 27472 Cuxhaven
SEQUENCE:0
SUMMARY:Kaffeestunde
UID:48db9648-5113-4b6e-99a1-2469706e1a30
URL:https://touren-termine.adfc.de/radveranstaltung/114701-kaffeestunde
END:VEVENT
END:VCALENDAR
