BEGIN:VCALENDAR
PRODID:-//github.com/rianjs/ical.net//NONSGML ical.net 4.0//EN
VERSION:2.0
BEGIN:VEVENT
DESCRIPTION:Die #FahrradFrauen des ADFC Berlin treffen sich regelmäßig jed
 en 3. Montag im Monat um 19 Uhr ONLINE - schau einfach vorbei - Gerne spo
 ntan\, über eine Anmeldung freuen wir uns.\nhttps://touren-termine.adfc.d
 e/radveranstaltung/95502-treffen-des-frauennetzwerkes-des-adfc-berlin
DTEND:20230717T183000Z
DTSTAMP:20260424T050533Z
DTSTART:20230717T170000Z
LOCATION:Möckernstraße 47 - VELOKiez des ADFC Berlin\, 10963 Berlin
SEQUENCE:0
SUMMARY:Treffen des Frauen*Netzwerkes des ADFC Berlin
UID:25fb70dc-a851-46ad-b2ea-0012a1699029
URL:https://touren-termine.adfc.de/radveranstaltung/95502-treffen-des-frau
 ennetzwerkes-des-adfc-berlin
END:VEVENT
END:VCALENDAR
