BEGIN:VCALENDAR
PRODID:-//github.com/rianjs/ical.net//NONSGML ical.net 4.0//EN
VERSION:2.0
BEGIN:VEVENT
DESCRIPTION:Wir beschäftigen uns mit der Verkehrsplanung im Bezirk Mitte u
 nd setzten uns dabei für den Radverkehr ein.\nhttps://touren-termine.adfc
 .de/radveranstaltung/100096-bezirksgruppe-mitte
DTEND:20231211T200000Z
DTSTAMP:20260420T231112Z
DTSTART:20231211T180000Z
LOCATION:Koppel 34-36\, 20099 Hamburg
SEQUENCE:0
SUMMARY:Bezirksgruppe Mitte
UID:820ffa58-48fd-40df-a825-70a98aa19e5b
URL:https://touren-termine.adfc.de/radveranstaltung/100096-bezirksgruppe-m
 itte
END:VEVENT
END:VCALENDAR
