BEGIN:VCALENDAR
PRODID:-//github.com/rianjs/ical.net//NONSGML ical.net 4.0//EN
VERSION:2.0
BEGIN:VEVENT
DESCRIPTION:Schöne Radtour durch das Siebenmühlen- und Schaichtal in den S
 chönbuch und Böblingen zurück nach Vaihingen\nhttps://touren-termine.adfc
 .de/radveranstaltung/160910-radwegebruckentour
DTEND:20250519T150000Z
DTSTAMP:20260424T144530Z
DTSTART:20250519T073000Z
LOCATION:Bahnhof Vaihingen 1\, 70563 Stuttgart
SEQUENCE:0
SUMMARY:Radwegebrücken-Tour
UID:453bd135-b31f-4b64-bc8e-1fcff00de8bd
URL:https://touren-termine.adfc.de/radveranstaltung/160910-radwegebruckent
 our
END:VEVENT
END:VCALENDAR
