BEGIN:VCALENDAR
PRODID:-//github.com/rianjs/ical.net//NONSGML ical.net 4.0//EN
VERSION:2.0
BEGIN:VEVENT
DESCRIPTION:Von Kaufering über Landsberg zum Kloster Fürstenfeld und zurüv
 ck nach Dachau\nhttps://touren-termine.adfc.de/radveranstaltung/161294-vo
 n-landsberg-nach-dachau
DTEND:20250720T143000Z
DTSTAMP:20260421T100752Z
DTSTART:20250720T070000Z
LOCATION:Bike & Ride Fahrradparkhaus\, 85221 Dachau
SEQUENCE:0
SUMMARY:Von Landsberg nach Dachau
UID:1c8894f8-9ebe-4d06-96ab-e36ce5f63c89
URL:https://touren-termine.adfc.de/radveranstaltung/161294-von-landsberg-n
 ach-dachau
END:VEVENT
END:VCALENDAR
