BEGIN:VCALENDAR
PRODID:-//github.com/rianjs/ical.net//NONSGML ical.net 4.0//EN
VERSION:2.0
BEGIN:VEVENT
DESCRIPTION:Sternfahrt von Siegen\, Kreuztal und Bad Berleburg zur Oberndo
 rfer Höhe. Von Bad Berleburg über den Ederradweg und das Elberndorftal. A
 nmeldung bitte bis 2. Juni 2023\, 12:⁰⁰ Uhr.\nhttps://touren-termine.adfc
 .de/radveranstaltung/96186-2-sternfahrt-des-adfc-siwi-start-bad-berleburg
DTEND:20230603T170000Z
DTSTAMP:20260423T030920Z
DTSTART:20230603T080000Z
LOCATION:Bahnhof Bad Berleburg\, 57319 Bad Berleburg
SEQUENCE:0
SUMMARY:2. Sternfahrt des ADFC Si-Wi\, Start Bad Berleburg
UID:75087874-4117-4b03-8974-97aa32805776
URL:https://touren-termine.adfc.de/radveranstaltung/96186-2-sternfahrt-des
 -adfc-siwi-start-bad-berleburg
END:VEVENT
END:VCALENDAR
