BEGIN:VCALENDAR
PRODID:-//github.com/rianjs/ical.net//NONSGML ical.net 4.0//EN
VERSION:2.0
BEGIN:VEVENT
DESCRIPTION:Gemütliche Radtour durch die Nebenstraßen im Hamburger Westen.
  Nicht bei Dauerregen.\nhttps://touren-termine.adfc.de/radveranstaltung/1
 04831-eine-runde-drehn-durch-halloween
DTEND:20231031T170000Z
DTSTAMP:20260421T101108Z
DTSTART:20231031T130000Z
LOCATION:Teufelsbrück\, 22609 Hamburg\, Nienstedten
SEQUENCE:0
SUMMARY:Eine Runde drehn durch Halloween
UID:60a057fa-6a44-4a54-8603-0ab7a71a9a34
URL:https://touren-termine.adfc.de/radveranstaltung/104831-eine-runde-dreh
 n-durch-halloween
END:VEVENT
END:VCALENDAR
