BEGIN:VCALENDAR
PRODID:-//github.com/rianjs/ical.net//NONSGML ical.net 4.0//EN
VERSION:2.0
BEGIN:VEVENT
DESCRIPTION:Verschiedene Geschwindigkeitsgruppen: Pättkes-Tour (15-18 km/h
 )\, Flotte Tour (18-21 km/h)\, Schnelle Tour (21-25 km/h).\nZiel und Rout
 e werden beim Start bekannt gegeben.\nhttps://touren-termine.adfc.de/radv
 eranstaltung/112391-feierabendtour-rund-um-coesfeld-april
DTEND:20240415T180000Z
DTSTAMP:20260419T231833Z
DTSTART:20240415T160000Z
LOCATION:Marktplatz\, 48653 Coesfeld
SEQUENCE:0
SUMMARY:Feierabendtour rund um Coesfeld: April
UID:53977637-6717-4f74-9d16-026f32efc6f0
URL:https://touren-termine.adfc.de/radveranstaltung/112391-feierabendtour-
 rund-um-coesfeld-april
END:VEVENT
END:VCALENDAR
