BEGIN:VCALENDAR
PRODID:-//github.com/rianjs/ical.net//NONSGML ical.net 4.0//EN
VERSION:2.0
BEGIN:VEVENT
DESCRIPTION:Im Wesertal bis Welsede\, vorbei an der Schaumburg ins Auetal.
  Ziel ist der Jahrtausendblick (EXPO 2000-Projekt) - zu dem wir die letzt
 en Meter wandern müssen. Durch Steinbergen zurück ins Wesertal.\nhttps://
 touren-termine.adfc.de/radveranstaltung/114005-zum-steinzeichen-in-steinb
 ergen
DTEND:20240706T160000Z
DTSTAMP:20260423T141825Z
DTSTART:20240706T080000Z
LOCATION:Pfortmühle an der blauen Brücke\,\, 31785 Hameln
SEQUENCE:0
SUMMARY:Zum Steinzeichen in Steinbergen
UID:d7b3cdbf-59b3-4f40-91ed-68f2c2a2ce7f
URL:https://touren-termine.adfc.de/radveranstaltung/114005-zum-steinzeiche
 n-in-steinbergen
END:VEVENT
END:VCALENDAR
