BEGIN:VCALENDAR
PRODID:-//github.com/rianjs/ical.net//NONSGML ical.net 4.0//EN
VERSION:2.0
BEGIN:VEVENT
DESCRIPTION:Gebrauchtfahrrädermarkt\nhttps://touren-termine.adfc.de/radver
 anstaltung/119761-3-fahrradbasar-am-dillmanngymnasium
DTEND:20240309T120000Z
DTSTAMP:20260424T175731Z
DTSTART:20240309T080000Z
LOCATION:Forststraße 43\, 70176 Stuttgart
SEQUENCE:0
SUMMARY:3. Fahrradbasar am Dillmann-Gymnasium
UID:3289ec39-65db-4088-88f2-4776d2d6c4a0
URL:https://touren-termine.adfc.de/radveranstaltung/119761-3-fahrradbasar-
 am-dillmanngymnasium
END:VEVENT
END:VCALENDAR
