BEGIN:VCALENDAR
PRODID:-//github.com/rianjs/ical.net//NONSGML ical.net 4.0//EN
VERSION:2.0
BEGIN:VEVENT
DESCRIPTION:Es geht zum Mauerradweg nach Schildow bis Glienicke\, durch de
 n Tegeler Forst nach Tegelort. Mit der Fähre rüber auf die  Spandauer Sei
 te entlang d.Niederneuendorfer Sees zurück zum Ziel nach Lehnitz.\nhttps:
 //touren-termine.adfc.de/radveranstaltung/132781-graveltour-bis-zur-spand
 autegeler-fahre
DTEND:20240518T120000Z
DTSTAMP:20260425T232150Z
DTSTART:20240518T080000Z
LOCATION:S Bahnhof Borgsdorf Bahnhofstraße\, 16556 Hohen Neuendorf
SEQUENCE:0
SUMMARY:Gravel-Tour bis zur Spandau-Tegeler Fähre
UID:975463ff-c07e-4a6f-96e6-2d05e0cee16f
URL:https://touren-termine.adfc.de/radveranstaltung/132781-graveltour-bis-
 zur-spandautegeler-fahre
END:VEVENT
END:VCALENDAR
