BEGIN:VCALENDAR
PRODID:-//github.com/rianjs/ical.net//NONSGML ical.net 4.0//EN
VERSION:2.0
BEGIN:VEVENT
DESCRIPTION:Öffentlicher Stammtisch des Kreisverbandes Kempten-Oberallgäu\
 nhttps://touren-termine.adfc.de/radveranstaltung/184643-radlerstammtisch-
 in-martinszell
DTEND:20261217T210000Z
DTSTAMP:20260424T151211Z
DTSTART:20261217T190000Z
LOCATION: IG OMa\, Oberdorfer Bahnhofstraße 7\, 87448 Landkreis Oberallgäu
SEQUENCE:0
SUMMARY:Radlerstammtisch in Martinszell
UID:f62b8dce-a376-4dfc-94fd-32f0127afc48
URL:https://touren-termine.adfc.de/radveranstaltung/184643-radlerstammtisc
 h-in-martinszell
END:VEVENT
END:VCALENDAR
