BEGIN:VCALENDAR
PRODID:-//github.com/rianjs/ical.net//NONSGML ical.net 4.0//EN
VERSION:2.0
BEGIN:VEVENT
DESCRIPTION:Du lebst in Schöneberg und möchtest dich für einen fahrrad-\, 
 menschen- und klimafreundlichen Bezirk einsetzen? Du bist herzlich eingel
 aden\, komm einfach dazu!\nhttps://touren-termine.adfc.de/radveranstaltun
 g/142528-treffen-der-stadtteilgruppe-schoneberg
DTEND:20250303T200000Z
DTSTAMP:20260424T020315Z
DTSTART:20250303T180000Z
LOCATION:Raum für Beteiligung\, Dominicusstraße 11\, 10823 Berlin
SEQUENCE:0
SUMMARY:Treffen der Stadtteilgruppe Schöneberg
UID:a4a58338-0fe1-4720-ad5e-8592c62cce03
URL:https://touren-termine.adfc.de/radveranstaltung/142528-treffen-der-sta
 dtteilgruppe-schoneberg
END:VEVENT
END:VCALENDAR
