BEGIN:VCALENDAR
PRODID:-//github.com/rianjs/ical.net//NONSGML ical.net 4.0//EN
VERSION:2.0
BEGIN:VEVENT
DESCRIPTION:Geführte ADFC-Radtour von Uelzen zum Elbers Hoffest nach Nette
 lkamp. Uns erwartet ein interessantes Angebot für die ganze Familie und a
 lt & jung. Legendär die große Strohburg für die Kids.\nhttps://touren-ter
 mine.adfc.de/radveranstaltung/192583-adfcradtour-zum-elbers-hoffest-nach-
 nettelkamp
DTEND:20260906T140000Z
DTSTAMP:20260424T160434Z
DTSTART:20260906T083000Z
LOCATION:Herzogenplatz\, 29525 Uelzen
SEQUENCE:0
SUMMARY:ADFC-Radtour zum Elbers Hoffest nach Nettelkamp
UID:c57ce57b-c9ab-4f07-ba5d-e954a357ae5d
URL:https://touren-termine.adfc.de/radveranstaltung/192583-adfcradtour-zum
 -elbers-hoffest-nach-nettelkamp
END:VEVENT
END:VCALENDAR
