BEGIN:VCALENDAR
PRODID:-//github.com/rianjs/ical.net//NONSGML ical.net 4.0//EN
VERSION:2.0
BEGIN:VEVENT
DESCRIPTION:Wir fahren eine gemütliche Runde über Sickte\, Veltheim\, Luck
 lum und Salzdahlum.\nhttps://touren-termine.adfc.de/radveranstaltung/1918
 96-muttertagstour-mit-einkehr
DTEND:20260510T150000Z
DTSTAMP:20260423T015453Z
DTSTART:20260510T110000Z
LOCATION:Eingang VW Halle Europaplatz\, 38122 Braunschweig
SEQUENCE:0
SUMMARY:Muttertagstour mit Einkehr
UID:8a35466c-bd1c-4d97-95eb-e7f0770a098e
URL:https://touren-termine.adfc.de/radveranstaltung/191896-muttertagstour-
 mit-einkehr
END:VEVENT
END:VCALENDAR
