BEGIN:VCALENDAR
PRODID:-//github.com/rianjs/ical.net//NONSGML ical.net 4.0//EN
VERSION:2.0
BEGIN:VEVENT
DESCRIPTION:Wir treffen uns jeden ersten Donnerstag eines Monats (außer Au
 gust) um 19:00 Uhr im Gasthaus Belfort in Kaufbeuren\, Mindelheimer Str. 
 35. Diesmal Vortrag Jakobus-Radpilgerweg.\nhttps://touren-termine.adfc.de
 /radveranstaltung/114817-adfcradlerstammtisch-jakobusradpilgerweg
DTEND:20241205T180000Z
DTSTAMP:20260419T155843Z
DTSTART:20241205T180000Z
LOCATION:Gasthaus Belfort\, Mindelheimer Straße 35\, 87600 Kaufbeuren
SEQUENCE:0
SUMMARY:ADFC-Radlerstammtisch Jakobus-Radpilgerweg
UID:1b4102ab-b0a4-4cc5-92f0-b8bf8e327e5f
URL:https://touren-termine.adfc.de/radveranstaltung/114817-adfcradlerstamm
 tisch-jakobusradpilgerweg
END:VEVENT
END:VCALENDAR
