BEGIN:VCALENDAR
PRODID:-//github.com/rianjs/ical.net//NONSGML ical.net 4.0//EN
VERSION:2.0
BEGIN:VEVENT
DESCRIPTION:Die Tour von Feuerbach über Ludwigsburg und Bietigheim nach Be
 sigheim und dann über Freiberg nach Winnenden.\nhttps://touren-termine.ad
 fc.de/radveranstaltung/134486--feuerbach-besigheim-winnenden
DTEND:20240627T150000Z
DTSTAMP:20260424T143935Z
DTSTART:20240627T080000Z
LOCATION:Wiener Platz\, 70469 Stuttgart
SEQUENCE:0
SUMMARY: Feuerbach - Besigheim - Winnenden
UID:e9301119-899f-4d5a-932a-c97152e3e427
URL:https://touren-termine.adfc.de/radveranstaltung/134486--feuerbach-besi
 gheim-winnenden
END:VEVENT
END:VCALENDAR
