BEGIN:VCALENDAR
PRODID:-//github.com/rianjs/ical.net//NONSGML ical.net 4.0//EN
VERSION:2.0
BEGIN:VEVENT
DESCRIPTION:Die Tourenleitenden des ADFC Berlin und die\, die es werden wo
 llen\, treffen sich jährlich zu einer Arbeitstagung. Besprochen wird Inte
 ressantes zum Thema Planung und Leitung von Radtouren.\nhttps://touren-te
 rmine.adfc.de/radveranstaltung/138770-tagestreffen-der-tourenleitenden
DTEND:20250111T160000Z
DTSTAMP:20260424T173055Z
DTSTART:20250111T090000Z
LOCATION:Gelbe Villa\, Wilhelmshöhe 10\, 10965 Berlin
SEQUENCE:0
SUMMARY:Tagestreffen der Tourenleitenden
UID:55875968-ec78-4f79-8873-7805dc9bb5fe
URL:https://touren-termine.adfc.de/radveranstaltung/138770-tagestreffen-de
 r-tourenleitenden
END:VEVENT
END:VCALENDAR
