BEGIN:VCALENDAR
PRODID:-//github.com/rianjs/ical.net//NONSGML ical.net 4.0//EN
VERSION:2.0
BEGIN:VEVENT
DESCRIPTION:GLieM-Rätsel noch bis 29. Mai 2025\nhttps://touren-termine.adf
 c.de/radveranstaltung/165442-letzte-zehn-tage-preisratsel-mit-gewinnen-
DTEND:20250519T215500Z
DTSTAMP:20260424T173317Z
DTSTART:20250519T215000Z
LOCATION:Selbst losfahren\, 30853 Langenhagen
SEQUENCE:0
SUMMARY:Letzte zehn Tage Preisrätsel - mit Gewinnen ⓇⓈ
UID:501c0fd4-c10a-4909-9af7-ffc868592054
URL:https://touren-termine.adfc.de/radveranstaltung/165442-letzte-zehn-tag
 e-preisratsel-mit-gewinnen-
END:VEVENT
END:VCALENDAR
