BEGIN:VCALENDAR
PRODID:-//github.com/rianjs/ical.net//NONSGML ical.net 4.0//EN
VERSION:2.0
BEGIN:VEVENT
DESCRIPTION:Radtour zur Biokräuterei mit Besichtigung und Verköstung im Ra
 hmen der Stadtradelwochen\nhttps://touren-termine.adfc.de/radveranstaltun
 g/137386-klimaradtour-zur-biokrauterei-oberhavel
DTEND:20240912T170000Z
DTSTAMP:20260425T231710Z
DTSTART:20240912T130000Z
LOCATION:Schloßplatz\, 16515 Oranienburg
SEQUENCE:0
SUMMARY:Klimaradtour zur Biokräuterei Oberhavel
UID:c9c78150-7477-4582-a0b0-69542a67239f
URL:https://touren-termine.adfc.de/radveranstaltung/137386-klimaradtour-zu
 r-biokrauterei-oberhavel
END:VEVENT
END:VCALENDAR
