BEGIN:VCALENDAR
PRODID:-//github.com/rianjs/ical.net//NONSGML ical.net 4.0//EN
VERSION:2.0
BEGIN:VEVENT
DESCRIPTION:Tourenleiter: Reinhold Lekschas\nhttps://touren-termine.adfc.d
 e/radveranstaltung/197656-feierabendtour-fahrt-ins-blaue
DTEND:20260715T180000Z
DTSTAMP:20260419T152347Z
DTSTART:20260715T150000Z
LOCATION:Schloßplatz\, 21423 Winsen (Luhe)
SEQUENCE:0
SUMMARY:Feierabendtour Fahrt ins Blaue
UID:0ce16b61-1442-4a88-b865-2cdf93bf278b
URL:https://touren-termine.adfc.de/radveranstaltung/197656-feierabendtour-
 fahrt-ins-blaue
END:VEVENT
END:VCALENDAR
